BEGIN:VCALENDAR
VERSION:2.0
PRODID:-//eventon.com NONSGML v1.0//EN
CALSCALE:GREGORIAN
METHOD:PUBLISH
BEGIN:VEVENT
UID:69ea4be935bba
DTSTAMP:20260423T164217Z
DTSTART:20260425T180000Z
DTEND:20260426T000000Z
LOCATION:
SUMMARY:SHOW Hebe Hernández & Carlos Cisneros - DJ Michael Rühl
DESCRIPTION:🌸✨ Super Saturday Milonga im Tangoloft Berlin ✨🌸 SHOW
  mit Hebe Hernandez & Carlos Cisneros Eine Kooperation mit MALA JUNTA BERLI
 N Hebe Hernandez\,  fünffache Finalistin der renommierten Tangoweltmeister
 schaft in der Kategorie Bühnentango und ausgebildet am legendären Teatro 
 Colón\,  trifft auf den charismatischen Carlos Cisnero\,  Mitglied der Tan
 go-Oper María de Buenos[..]\nhttps://tangoloft-berlin.de/events/show-hebe-
 hernandez-carlos-cisneros-dj-michael-ruehl/
URL:https://tangoloft-berlin.de/events/show-hebe-hernandez-carlos-cisneros-dj-michael-ruehl/
END:VEVENT
END:VCALENDAR