BEGIN:VCALENDAR
VERSION:2.0
PRODID:-//eventon.com NONSGML v1.0//EN
CALSCALE:GREGORIAN
METHOD:PUBLISH
BEGIN:VEVENT
UID:69ea63e55331b
DTSTAMP:20260423T182437Z
DTSTART:20260423T170000Z
DTEND:20260423T213000Z
LOCATION:
SUMMARY:PRAKTILONGA IM TANGOLOFT
DESCRIPTION:Wir starten um 19:00 Uhr mit einer Open Class.Um 20:00 Uhr begi
 nnt die Praktilonga. In der Mitte des Abends geben wir einen weiteren Impul
 s.Jeder Gast ist willkommen. Kommt vorbei und schaut Euch das Format an (ww
 w.stravaganza.de).\nhttps://tangoloft-berlin.de/en/events/praktilonga-im-ta
 ngoloft/
URL:https://tangoloft-berlin.de/en/events/praktilonga-im-tangoloft/
END:VEVENT
END:VCALENDAR