BEGIN:VCALENDAR
VERSION:2.0
PRODID:-//eventon.com NONSGML v1.0//EN
CALSCALE:GREGORIAN
METHOD:PUBLISH
BEGIN:VEVENT
UID:69eaa0b1d5c41
DTSTAMP:20260423T224401Z
DTSTART:20260430T180000Z
DTEND:20260430T003000Z
LOCATION:
SUMMARY:TANZ IN DEN MAI
DESCRIPTION:🌸✨ Tanz in den Mai im Tangoloft an der Spree ✨🌸 April
  2026 Wenn der Frühling in voller Blüte steht und die Nächte endlich wie
 der wärmer werden\,  gibt es kaum etwas Schöneres\,  als gemeinsam tanzen
 d in den Mai zu tanzen 🌷💃 Wir laden euch herzlich ein zum allerersten
  Tanz in[..]\nhttps://tangoloft-berlin.de/en/events/tanz-in-den-mai/
URL:https://tangoloft-berlin.de/en/events/tanz-in-den-mai/
END:VEVENT
END:VCALENDAR