BEGIN:VCALENDAR
VERSION:2.0
PRODID:-//eventon.com NONSGML v1.0//EN
CALSCALE:GREGORIAN
METHOD:PUBLISH
BEGIN:VEVENT
UID:69e4cfe5a6dc0
DTSTAMP:20260419T125149Z
DTSTART:20260326T180000Z
DTEND:20260326T223000Z
LOCATION:
SUMMARY:PRAKTILONGA STRAVAGANZA! mit Ulrike Schladebach & Stephan Wiesner
DESCRIPTION:PRAKTILONGA STRAVAGANZA! Im schönen TANGOLOFT! Am 26. März ge
 ht's los! Wir starten um 19 Uhr mit einem einstündigen Seminar. Rechnet mi
 t einem experimentellen innovativen Format.Um 20 Uhr beginnt die Praktilong
 a.Sie ist Forum und Forum für euren individuellen Tango Mehr Infos bald!\n
 https://tangoloft-berlin.de/en/events/praktilonga-stravaganza-mit-ulrike-sc
 hladebach-stephan-wiesner/
URL:https://tangoloft-berlin.de/en/events/praktilonga-stravaganza-mit-ulrike-schladebach-stephan-wiesner/
END:VEVENT
END:VCALENDAR