BEGIN:VCALENDAR
VERSION:2.0
PRODID:-//eventon.com NONSGML v1.0//EN
CALSCALE:GREGORIAN
METHOD:PUBLISH
BEGIN:VEVENT
UID:69e50358dd3fa
DTSTAMP:20260419T163120Z
DTSTART:20260404T180000Z
DTEND:20260404T000000Z
LOCATION:
SUMMARY:NEO NON TANGO MILONGA!  DJ Jean Marc Vandel!
DESCRIPTION:🌈🪩 Liebe Tango-Tänzerinnen und Tango-Tänzer\,  🪩🌈
  ihr habt es euch so sehr gewünscht – Eine ganze Nacht mal wieder nur Ne
 onon-Tango-Musik im Tangoloft! 💥💜Deshalb laden wir euch zu einem Supe
 r-Duper-Neonon-Tango-Special ein:🎶🔥 🎧✨ Special Guest:Extra aus d
 er Schweiz (mit Zwischenstopps in der ganzen Welt 🌍✈️) kommt Jean-Ma
 rc Vandel zu uns –ein[..]\nhttps://tangoloft-berlin.de/en/events/neo-non-
 tango-milonga-dj-jean-marc-vandel/
URL:https://tangoloft-berlin.de/en/events/neo-non-tango-milonga-dj-jean-marc-vandel/
END:VEVENT
END:VCALENDAR