BEGIN:VCALENDAR
VERSION:2.0
PRODID:-//eventon.com NONSGML v1.0//EN
CALSCALE:GREGORIAN
METHOD:PUBLISH
BEGIN:VEVENT
UID:69e76ebdccd60
DTSTAMP:20260421T123405Z
DTSTART:20260328T190000Z
DTEND:20260329T010000Z
LOCATION:
SUMMARY:Milonga mit Live Orquesta Tipica & Chamber Music! DJ Francesco! Berlin Tango Factory
DESCRIPTION:⚜️ Saturday Milonga mit Live Orquesta Tipica & Chamber Musi
 c ⚜️ DJ Francesco ⚜️ Berlin Tango FactoryCarmela Delgado & Pablo Mu
 rgier 🎶 Wir laden euch herzlich zu einem besonderen Tangoabend am 29. M
 rz 2026 im Tangoloft Berlin.Freut euch auf Unterricht\,  Milonga\,  DJ und
  ein einzigartiges Orquesta Tipica & Chamber Music[..]\nhttps://tangoloft-b
 erlin.de/en/events/saturday-milonga-mit-live-orquesta-tipica-chamber-music-
 dj-francesco-berlin-tango-factory/
URL:https://tangoloft-berlin.de/en/events/saturday-milonga-mit-live-orquesta-tipica-chamber-music-dj-francesco-berlin-tango-factory/
END:VEVENT
END:VCALENDAR